BEGIN:VCALENDAR
PRODID:-//stgregoryrussianchurch.org//EN
CALSCALE:GREGORIAN
VERSION:2.0
METHOD:PUBLISH
BEGIN:VEVENT
DTSTART;TZID=America/New_York:20260508T
DTEND;TZID=America/New_York:20260508T
URL:https://stgregoryrussianchurch.org/calendar/john-the-theologian/
SUMMARY;CHARSET=UTF-8:John the Theologian
END:VEVENT
END:VCALENDAR