BEGIN:VCALENDAR
PRODID:-//stgregoryrussianchurch.org//EN
CALSCALE:GREGORIAN
VERSION:2.0
METHOD:PUBLISH
BEGIN:VEVENT
DTSTART;TZID=America/New_York:20260511T
DTEND;TZID=America/New_York:20260511T
URL:https://stgregoryrussianchurch.org/calendar/sts-cyril-and-methodius/
SUMMARY;CHARSET=UTF-8:Sts Cyril and Methodius
END:VEVENT
END:VCALENDAR