BEGIN:VCALENDAR
PRODID:-//stgregoryrussianchurch.org//EN
CALSCALE:GREGORIAN
VERSION:2.0
METHOD:PUBLISH
BEGIN:VEVENT
DTSTART;TZID=America/New_York:20260601T
DTEND;TZID=America/New_York:20260601T
URL:https://stgregoryrussianchurch.org/calendar/holy-spirit-day/
SUMMARY;CHARSET=UTF-8:Holy Spirit Day
END:VEVENT
END:VCALENDAR