BEGIN:VCALENDAR
PRODID:-//stgregoryrussianchurch.org//EN
CALSCALE:GREGORIAN
VERSION:2.0
METHOD:PUBLISH
BEGIN:VEVENT
DTSTART;TZID=America/New_York:20260423T
DTEND;TZID=America/New_York:20260423T
URL:https://stgregoryrussianchurch.org/calendar/great-martyr-george/
SUMMARY;CHARSET=UTF-8:Great Martyr George
END:VEVENT
END:VCALENDAR